BEGIN:VCALENDAR
VERSION:2.0
PRODID:-//Judo Vlaanderen - ECPv6.15.18//NONSGML v1.0//EN
CALSCALE:GREGORIAN
METHOD:PUBLISH
X-WR-CALNAME:Judo Vlaanderen
X-ORIGINAL-URL:https://judovlaanderen.be
X-WR-CALDESC:Events voor Judo Vlaanderen
REFRESH-INTERVAL;VALUE=DURATION:PT1H
X-Robots-Tag:noindex
X-PUBLISHED-TTL:PT1H
BEGIN:VTIMEZONE
TZID:UTC
BEGIN:STANDARD
TZOFFSETFROM:+0000
TZOFFSETTO:+0000
TZNAME:UTC
DTSTART:20250101T000000
END:STANDARD
END:VTIMEZONE
BEGIN:VEVENT
DTSTART;TZID=UTC:20260421T200000
DTEND;TZID=UTC:20260421T210000
DTSTAMP:20260421T093005
CREATED:20260121T074325Z
LAST-MODIFIED:20260420T135215Z
UID:10000265-1776801600-1776805200@judovlaanderen.be
SUMMARY:Opleiding randorileiders - DIGITAAL
DESCRIPTION:Opleiding randorileiders deel 1 \nKen jij de Judo Kids Cup U9\,U11\, U13 al? De randorileider vervult hier een heel belangrijke functie door de kinderen te helpen\, gericht instructies te geven en te motiveren. Het leerproces en welbevinden van de jonge judoka staan centraal. Tijdens zo’n Judo Kids Cup heeft de clubtrainer enkel een begeleidende rol\, bijvoorkeur zijn clubtrainer zelf onderdeel van de organisatie en die dag actief als randorileider. \nSpreekt de functie van randorileider je aan? Volg de opleiding tot randorileider. Deel 1 wordt volledig digitaal aangeboden. Het opleidingstraject deel 2 loopt tijdens een Kids Cup zelf. De opleiding wordt gratis aangeboden. \nDeelnamevoorwaarde: 16j. worden\, min. 1ste kyu\, trainersdiploma (min. attest aspirant-initiator/start to coach)\, diploma scheidsrechter/tijdopnemer of ervaring als wedstrijdjudoka.  Voor meer informatie\, neem contact op met  +32474566740
URL:https://judovlaanderen.be/events/opleiding-randorileiders-digitaal-2/
LOCATION:Digitaal\, 00\, 00\, Vlaams-Brabant\, 00\, België
CATEGORIES:Bijscholingen,Bijscholingen & inspiratiesessies,JV Organisatie
END:VEVENT
BEGIN:VEVENT
DTSTART;TZID=UTC:20260421T200000
DTEND;TZID=UTC:20260421T213000
DTSTAMP:20260421T093005
CREATED:20251115T161131Z
LAST-MODIFIED:20260420T135213Z
UID:10000153-1776801600-1776807000@judovlaanderen.be
SUMMARY:RTT - Regionale Technische Training West
DESCRIPTION:https://www.judovlaanderen.be/graden-techniek/techniek-kata/ Voor meer informatie\, neem contact op met  052454585
URL:https://judovlaanderen.be/events/rtt-regionale-technische-training-west-6/
LOCATION:Dojo JC Tielt\, Generaal Maczekplein\, Tielt\, West-Vlaanderen\, 8700\, België
CATEGORIES:Graden en Techniek,JV Organisatie,Trainingen
END:VEVENT
END:VCALENDAR